BEGIN:VCALENDAR
PRODID:-//github.com/rianjs/ical.net//NONSGML ical.net 4.0//EN
VERSION:2.0
BEGIN:VEVENT
DESCRIPTION:Details:\nhttps://bbyo.org/bbyo-near-you/regions/north-texas-o
 klahoma-region/b-yachad-l-tid-5th-steering-meeting
DTEND:20231106T190000
DTSTAMP:20260425T123915Z
DTSTART:20231106T173000
LOCATION:Zoom!
SEQUENCE:0
SUMMARY:B'yachad L'tid 5th Steering Meeting
UID:f176a24f-c935-4cf1-ba0d-69d51b35b59a
END:VEVENT
END:VCALENDAR
