BEGIN:VCALENDAR
PRODID:-//github.com/rianjs/ical.net//NONSGML ical.net 4.0//EN
VERSION:2.0
BEGIN:VEVENT
DESCRIPTION:Details:\nhttps://bbyo.org/bbyo-near-you/regions/ohio-northern
 -region/connect-cavs-game
DTEND:20160316T213000
DTSTAMP:20260423T195306Z
DTSTART:20160316T163000
LOCATION:Drop off: Mandel JCC
SEQUENCE:0
SUMMARY:Connect Cavs Game
UID:9086ce4b-e326-4628-b931-eaac1f655820
END:VEVENT
END:VCALENDAR
