BEGIN:VCALENDAR
PRODID:-//github.com/rianjs/ical.net//NONSGML ical.net 4.0//EN
VERSION:2.0
BEGIN:VEVENT
DESCRIPTION:Details:\nhttps://bbyo.org/bbyo-near-you/regions/miami-region/
 bbyo-summer-parent-informational-night\n\nSummary:\nJoin Miami and North 
 Florida Region for one night only to learn more about BBYO Summer program
 s\, including CLTC\, ILTC\, Kallah\, and Israel travel\, to name a few! C
 ome and get all your questio
DTEND:20201015T200000
DTSTAMP:20260423T224925Z
DTSTART:20201015T190000
LOCATION:
SEQUENCE:0
SUMMARY:BBYO Summer Parent Informational Night
UID:0c1ba391-29ff-4ec0-a6ec-af04f557f0d4
END:VEVENT
END:VCALENDAR
