BEGIN:VCALENDAR
PRODID:-//github.com/rianjs/ical.net//NONSGML ical.net 4.0//EN
VERSION:2.0
BEGIN:VEVENT
DESCRIPTION:Details:\nhttps://bbyo.org/bbyo-near-you/regions/northern-regi
 on-east-northern-virginia-council/nova-s-ballin-spring-council-kickoff-(p
 c-5000)\n\nSummary:\nCome kickoff the new term with your favorite BBGs an
 d Alephs of NoVA Council. We will be meeting at the BBYO International Of
 fice at 5:45 for pizza and Havdallah. Later\, we will take a short
DTEND:20170204T213000
DTSTAMP:20260421T094558Z
DTSTART:20170204T174500
LOCATION:BBYO International Office and Verizon Center
SEQUENCE:0
SUMMARY:NoVa's Ballin' Spring Council Kickoff (PC 5000)
UID:e5260e40-919f-4e18-aedc-40574714af3a
END:VEVENT
END:VCALENDAR
