BEGIN:VCALENDAR
PRODID:-//github.com/rianjs/ical.net//NONSGML ical.net 4.0//EN
VERSION:2.0
BEGIN:VEVENT
DESCRIPTION:Details:\nhttps://bbyo.org/bbyo-near-you/regions/lonestar-regi
 on/ghc-azaa-basketball-week-2
DTEND:20190915T200000
DTSTAMP:20260425T182814Z
DTSTART:20190915T180000
LOCATION:Houston Texas
SEQUENCE:0
SUMMARY:GHC AZAA Basketball Week 2
UID:0ddcee40-fe14-4caa-827d-2e106f700f35
END:VEVENT
END:VCALENDAR
