BEGIN:VCALENDAR
PRODID:-//github.com/rianjs/ical.net//NONSGML ical.net 4.0//EN
VERSION:2.0
BEGIN:VEVENT
DESCRIPTION:Details:\nhttps://bbyo.org/bbyo-near-you/regions/hudson-valley
 -region/regional-and-chapter-installs\n\nSummary:\nHonor our outgoing boa
 rds and welcome our new regional and chapter leadership! Parents\, friend
 s\, and family are welcome to join us!
DTEND:20160607T200000
DTSTAMP:20260424T083358Z
DTSTART:20160607T190000
LOCATION:JCC Mid-Westchester
SEQUENCE:0
SUMMARY:Regional and Chapter Installs
UID:291f8daf-e751-400a-9423-07e4da9e2caa
END:VEVENT
END:VCALENDAR
