BEGIN:VCALENDAR
PRODID:-//github.com/rianjs/ical.net//NONSGML ical.net 4.0//EN
VERSION:2.0
BEGIN:VEVENT
DESCRIPTION:Details:\nhttps://bbyo.org/bbyo-near-you/regions/rocky-mountai
 n-region/broomball-2006
DTEND:20060423T161500
DTSTAMP:20260423T002102Z
DTSTART:20060423T131500
LOCATION:Colorado Springs
SEQUENCE:0
SUMMARY:Broomball 2006
UID:77b2004c-24fc-4105-9aa9-914990497611
END:VEVENT
END:VCALENDAR
