BEGIN:VCALENDAR
PRODID:-//github.com/rianjs/ical.net//NONSGML ical.net 4.0//EN
VERSION:2.0
BEGIN:VEVENT
DESCRIPTION:Details:\nhttps://bbyo.org/bbyo-near-you/regions/northern-regi
 on-east-dc-council/gbd-launch
DTEND:20221128T200000
DTSTAMP:20260424T003757Z
DTSTART:20221128T180000
LOCATION:Bender JCC
SEQUENCE:0
SUMMARY:GBD Launch
UID:2574a18e-b4cf-47d5-8c99-946cf69b9fea
END:VEVENT
END:VCALENDAR
