BEGIN:VCALENDAR
PRODID:-//github.com/rianjs/ical.net//NONSGML ical.net 4.0//EN
VERSION:2.0
BEGIN:VEVENT
DESCRIPTION:Details:\nhttps://bbyo.org/bbyo-near-you/regions/great-midwest
 -region/gmr-ic-spirit-pack-$10-t-shirts-only-pc-2140\n\nSummary:\nPayment
  for IC Spirit - $10 Spirit T-Shirt - Israel Day T-Shirt
DTEND;VALUE=DATE:20170219
DTSTAMP:20260422T101236Z
DTSTART;VALUE=DATE:20170219
LOCATION:BBYO
SEQUENCE:0
SUMMARY:GMR IC Spirit Pack - $10 - T-Shirts Only   PC 2140
UID:adbbb625-ae33-4260-abb6-21e8dbd1c3d1
END:VEVENT
END:VCALENDAR
