BEGIN:VCALENDAR
PRODID:-//github.com/rianjs/ical.net//NONSGML ical.net 4.0//EN
VERSION:2.0
BEGIN:VEVENT
DESCRIPTION:Details:\nhttps://bbyo.org/bbyo-near-you/regions/kentucky-indi
 ana-ohio-region/mockingjay-kio
DTEND;VALUE=DATE:20151119
DTSTAMP:20260425T182956Z
DTSTART;VALUE=DATE:20151119
LOCATION:
SEQUENCE:0
SUMMARY:Mockingjay KIO
UID:38725892-0918-4ad8-b15f-a8c93793f716
END:VEVENT
END:VCALENDAR
