BEGIN:VCALENDAR
PRODID:-//github.com/rianjs/ical.net//NONSGML ical.net 4.0//EN
VERSION:2.0
BEGIN:VEVENT
DESCRIPTION:Details:\nhttps://bbyo.org/bbyo-near-you/regions/northern-regi
 on-east-baltimore-council/baltimore-j-serve-in-person-timeslot-2
DTEND:20210410T163000
DTSTAMP:20260423T002200Z
DTSTART:20210410T153000
LOCATION:Baltimore Maryland
SEQUENCE:0
SUMMARY:Baltimore J-Serve in-person timeslot 2
UID:ddc32314-23aa-4059-ad5c-74f8032bb06e
END:VEVENT
END:VCALENDAR
