BEGIN:VCALENDAR
PRODID:-//github.com/rianjs/ical.net//NONSGML ical.net 4.0//EN
VERSION:2.0
BEGIN:VEVENT
DESCRIPTION:Details:\nhttps://bbyo.org/bbyo-near-you/regions/eastern-regio
 n/mit-ait-convention\n\nSummary:\nAttention all new members of Eastern Re
 gion BBYO. MIT/AIT convention is designed especially for you. New members
  of BBYO will spend the weekend learning the "Who\, What\, When\, Where a
 nd Why o
DTEND:20061022T120000
DTSTAMP:20260426T030755Z
DTSTART:20061020T180000
LOCATION:Camp Weaver
SEQUENCE:0
SUMMARY:MIT/AIT Convention
UID:b19427d2-b5b3-4fe3-b3fe-664d25ef6b3a
END:VEVENT
END:VCALENDAR
