BEGIN:VCALENDAR
PRODID:-//github.com/rianjs/ical.net//NONSGML ical.net 4.0//EN
VERSION:2.0
BEGIN:VEVENT
DESCRIPTION:Details:\nhttps://bbyo.org/bbyo-near-you/regions/rocky-mountai
 n-region/rocky-mountain-region-src-2022
DTEND:20220501T160000
DTSTAMP:20260420T102318Z
DTSTART:20220429T160000
LOCATION:JCC Ranch Camp
SEQUENCE:0
SUMMARY:Rocky Mountain Region SRC 2022
UID:f7c694d7-24bc-45d0-bcfd-cde1f7400e66
END:VEVENT
END:VCALENDAR
