BEGIN:VCALENDAR
PRODID:-//github.com/rianjs/ical.net//NONSGML ical.net 4.0//EN
VERSION:2.0
BEGIN:VEVENT
DESCRIPTION:Details:\nhttps://bbyo.org/bbyo-near-you/regions/greater-atlan
 ta-region/atl-bbyo-connect-limo-scavenger-hunt-and-8th-grade
DTEND:20160118T090000
DTSTAMP:20260424T063413Z
DTSTART:20160117T180000
LOCATION:MJCCA
SEQUENCE:0
SUMMARY:ATL-BBYO Connect Limo Scavenger Hunt and 8th Grade Overnight
UID:0bea52e0-4339-42c9-a202-544896c52ba5
END:VEVENT
END:VCALENDAR
