BEGIN:VCALENDAR
PRODID:-//github.com/rianjs/ical.net//NONSGML ical.net 4.0//EN
VERSION:2.0
BEGIN:VEVENT
DESCRIPTION:Details:\nhttps://bbyo.org/bbyo-near-you/regions/pacific-weste
 rn-region/spring-convention-2023\n\nSummary:\nIts time for PWRs Spring Co
 nvention 2023! Join us to celebrate our regions Siblinghood\, get Regiona
 lly Inducted\, and celebrate two of our largest moments of the year... J-
 Serve and Beau Ball!
DTEND:20230416T140000
DTSTAMP:20260422T101206Z
DTSTART:20230414T160000
LOCATION:Glendale California
SEQUENCE:0
SUMMARY:SPRING CONVENTION 2023
UID:9f21098c-4fd5-4d27-880b-ed3278e39567
END:VEVENT
END:VCALENDAR
