BEGIN:VCALENDAR
PRODID:-//github.com/rianjs/ical.net//NONSGML ical.net 4.0//EN
VERSION:2.0
BEGIN:VEVENT
DESCRIPTION:Details:\nhttps://bbyo.org/bbyo-near-you/regions/manhattan-reg
 ion/manhattan-region-bbyo-leadership-training
DTEND:20170924T000100
DTSTAMP:20260425T182705Z
DTSTART;VALUE=DATE:20170924
LOCATION:
SEQUENCE:0
SUMMARY:Manhattan Region BBYO Leadership Training
UID:29b1ed1d-ff85-4645-a65d-d95c22e9286d
END:VEVENT
END:VCALENDAR
