BEGIN:VCALENDAR
PRODID:-//github.com/rianjs/ical.net//NONSGML ical.net 4.0//EN
VERSION:2.0
BEGIN:VEVENT
DESCRIPTION:Details:\nhttps://bbyo.org/bbyo-near-you/regions/north-texas-o
 klahoma-region/scholarship-only-regional-convention\n\nSummary:\n**This r
 egistration page is for teens applying for scholarship to attend conventi
 on.**\n\nIN APPLYING FOR SCHOLARSHIP:\nPlease put down a deposit of $25\,
  do not pay in full. After registering w
DTEND:20201220T110000
DTSTAMP:20260422T144336Z
DTSTART:20201218T180000
LOCATION:Zoom
SEQUENCE:0
SUMMARY:SCHOLARSHIP ONLY Regional Convention
UID:1b1346bc-9818-41dd-abdd-6971d22cf79e
END:VEVENT
END:VCALENDAR
