BEGIN:VCALENDAR
PRODID:-//github.com/rianjs/ical.net//NONSGML ical.net 4.0//EN
VERSION:2.0
BEGIN:VEVENT
DESCRIPTION:Details:\nhttps://bbyo.org/bbyo-near-you/regions/gold-coast-re
 gion/gold-coast-region-voice-your-vote
DTEND:20161108T210000
DTSTAMP:20260426T030233Z
DTSTART:20161108T183000
LOCATION:David Posnack JCC
SEQUENCE:0
SUMMARY:Gold Coast Region Voice Your Vote
UID:3e80a1d9-bba9-42fd-b179-4f8a839fa41a
END:VEVENT
END:VCALENDAR
