BEGIN:VCALENDAR
PRODID:-//github.com/rianjs/ical.net//NONSGML ical.net 4.0//EN
VERSION:2.0
BEGIN:VEVENT
DESCRIPTION:Details:\nhttps://bbyo.org/bbyo-near-you/regions/miami-region/
 miami-region-mit-ait
DTEND;VALUE=DATE:20180128
DTSTAMP:20260423T200643Z
DTSTART;VALUE=DATE:20180126
LOCATION:
SEQUENCE:0
SUMMARY:Miami Region MIT/AIT
UID:6610af72-ee06-4ecb-89f2-457a7b564f92
END:VEVENT
END:VCALENDAR
