BEGIN:VCALENDAR
PRODID:-//github.com/rianjs/ical.net//NONSGML ical.net 4.0//EN
VERSION:2.0
BEGIN:VEVENT
DESCRIPTION:Details:\nhttps://bbyo.org/bbyo-near-you/regions/greater-jerse
 y-region/ccbbg-battle-of-the-bbgs\n\nSummary:\nAll B'nai B'rith Girls fro
 m 8th-12th grade are invited to participate in Central Council Battle of 
 the BBGs.  A game show themed program perfect current members and prospec
 tive ones\, BBGs wi
DTEND:20170402T190000
DTSTAMP:20260426T030233Z
DTSTART:20170402T170000
LOCATION:Jessie Kransdorf's house
SEQUENCE:0
SUMMARY:CCBBG: Battle of the BBGs
UID:e56a53f1-bc78-4093-adb2-1131f8406987
END:VEVENT
END:VCALENDAR
