BEGIN:VCALENDAR
PRODID:-//github.com/rianjs/ical.net//NONSGML ical.net 4.0//EN
VERSION:2.0
BEGIN:VEVENT
DESCRIPTION:Details:\nhttps://bbyo.org/bbyo-near-you/regions/great-midwest
 -region/fall-2019-chapter-board-training\n\nSummary:\nAll current chapter
  and regional board members will come together to plan out our fall semes
 ter!
DTEND:20190825T180000
DTSTAMP:20260419T185740Z
DTSTART:20190825T093000
LOCATION:Deerfield Illinois
SEQUENCE:0
SUMMARY:Fall 2019 Chapter Board Training
UID:03c8e36b-d8ec-49e4-ae58-d62388aa1422
END:VEVENT
END:VCALENDAR
