BEGIN:VCALENDAR
PRODID:-//github.com/rianjs/ical.net//NONSGML ical.net 4.0//EN
VERSION:2.0
BEGIN:VEVENT
DESCRIPTION:Details:\nhttps://bbyo.org/bbyo-near-you/regions/nassau-suffol
 k-region/aza-basketball-(1)\n\nSummary:\nBasketball League
DTEND:20060315T210000
DTSTAMP:20260422T120417Z
DTSTART:20060315T190000
LOCATION:HANC
SEQUENCE:0
SUMMARY:AZA Basketball
UID:2379239d-92f6-4d9c-a277-97a04d5bdcaf
END:VEVENT
END:VCALENDAR
