BEGIN:VCALENDAR
PRODID:-//github.com/rianjs/ical.net//NONSGML ical.net 4.0//EN
VERSION:2.0
BEGIN:VEVENT
DESCRIPTION:Details:\nhttps://bbyo.org/bbyo-near-you/regions/wisconsin-reg
 ion/wi-oneg-1-6-17
DTEND;VALUE=DATE:20170106
DTSTAMP:20260424T062823Z
DTSTART;VALUE=DATE:20170106
LOCATION:
SEQUENCE:0
SUMMARY:WI - Oneg 1.6.17
UID:077622c6-7ca0-4a42-b306-6abc7d533e8f
END:VEVENT
END:VCALENDAR
