BEGIN:VCALENDAR
PRODID:-//github.com/rianjs/ical.net//NONSGML ical.net 4.0//EN
VERSION:2.0
BEGIN:VEVENT
DESCRIPTION:Details:\nhttps://bbyo.org/bbyo-near-you/regions/lonestar-regi
 on/aza-bbg-ic-2017-one-way-houston-to-ic-(pc2140)\n\nSummary:\nThis Regis
 tration is for teens traveling to IC from Houston One Way
DTEND:20170216T153000
DTSTAMP:20260419T145821Z
DTSTART:20170216T103000
LOCATION:Merfish Teen Center
SEQUENCE:0
SUMMARY:AZA BBG IC 2017 One Way Houston TO IC (PC2140)
UID:2849faaa-a4b1-4415-a921-143789d31b35
END:VEVENT
END:VCALENDAR
