BEGIN:VCALENDAR
PRODID:-//github.com/rianjs/ical.net//NONSGML ical.net 4.0//EN
VERSION:2.0
BEGIN:VEVENT
DESCRIPTION:Details:\nhttps://bbyo.org/bbyo-near-you/regions/nassau-suffol
 k-region/nsr-rlti-ii-2016-(pc-5000)\n\nSummary:\nTraining for all chapter
  and regional boards.
DTEND:20160124T160000
DTSTAMP:20260423T020459Z
DTSTART:20160124T110000
LOCATION:Old Westbury
SEQUENCE:0
SUMMARY:NSR RLTI II 2016 (PC 5000)
UID:b273230a-abca-4f17-b7d6-0418e00b3744
END:VEVENT
END:VCALENDAR
