BEGIN:VCALENDAR
PRODID:-//github.com/rianjs/ical.net//NONSGML ical.net 4.0//EN
VERSION:2.0
BEGIN:VEVENT
DESCRIPTION:Details:\nhttps://bbyo.org/bbyo-near-you/regions/northern-regi
 on-east-dc-council/limmud-3
DTEND:20181210T190000
DTSTAMP:20260419T185741Z
DTSTART:20181210T181500
LOCATION:Bender JCC
SEQUENCE:0
SUMMARY:Limmud #3
UID:7f112b31-33d5-4bc0-82ff-c5ac4b3b10a5
END:VEVENT
END:VCALENDAR
