BEGIN:VCALENDAR
PRODID:-//github.com/rianjs/ical.net//NONSGML ical.net 4.0//EN
VERSION:2.0
BEGIN:VEVENT
DESCRIPTION:Details:\nhttps://bbyo.org/bbyo-near-you/regions/rocky-mountai
 n-region/chapter-lti
DTEND:20240109T200000
DTSTAMP:20260423T114212Z
DTSTART:20240109T180000
LOCATION:Temple Sinai
SEQUENCE:0
SUMMARY:Chapter LTI
UID:ee64471b-6d96-4ae1-bf6a-8ba3b13a9bf3
END:VEVENT
END:VCALENDAR
