BEGIN:VCALENDAR
PRODID:-//github.com/rianjs/ical.net//NONSGML ical.net 4.0//EN
VERSION:2.0
BEGIN:VEVENT
DESCRIPTION:Details:\nhttps://bbyo.org/bbyo-near-you/regions/north-florida
 -region/rebels-merch-2-0
DTEND;VALUE=DATE:20220524
DTSTAMP:20260422T202437Z
DTSTART;VALUE=DATE:20220504
LOCATION:
SEQUENCE:0
SUMMARY:rebels merch 2.0
UID:6265627e-b67a-43b6-8f4f-a810af3f5098
END:VEVENT
END:VCALENDAR
