BEGIN:VCALENDAR
PRODID:-//github.com/rianjs/ical.net//NONSGML ical.net 4.0//EN
VERSION:2.0
BEGIN:VEVENT
DESCRIPTION:Details:\nhttps://bbyo.org/bbyo-near-you/regions/evergreen-reg
 ion/fall-ruach-convention-2022\n\nSummary:\nGet excited! This year Evergr
 een Region BBYO is hosting Ruach Convention at B'nai B'rith Camp in Linco
 ln City. This convention is aimed at bringing together a community of Jew
 ish teens from grades 8-12.
DTEND:20221113T130000
DTSTAMP:20260422T144151Z
DTSTART:20221110T160000
LOCATION:Lincoln City Oregon
SEQUENCE:0
SUMMARY:Fall Ruach Convention 2022
UID:c3edea42-6acf-492e-97f1-7e5ca69e8b8f
END:VEVENT
END:VCALENDAR
