BEGIN:VCALENDAR
PRODID:-//github.com/rianjs/ical.net//NONSGML ical.net 4.0//EN
VERSION:2.0
BEGIN:VEVENT
DESCRIPTION:Details:\nhttps://bbyo.org/bbyo-near-you/regions/global-chile/
 aza-bbg-global-leadership-launch\n\nSummary:\nOpen to all leaders at ever
 y level (elected\, appointed\, and aspiring) across North and South Ameri
 ca\n\nJoin us for training on Movement priorities and the launch of our C
 ounterpart Networks!
DTEND:20200816T170000
DTSTAMP:20260424T104126Z
DTSTART:20200816T150000
LOCATION:BBYO On Demand
SEQUENCE:0
SUMMARY:AZA & BBG Global Leadership Launch
UID:8d26c9fd-a922-4ed5-8924-0b470cd190c6
END:VEVENT
END:VCALENDAR
