BEGIN:VCALENDAR
PRODID:-//github.com/rianjs/ical.net//NONSGML ical.net 4.0//EN
VERSION:2.0
BEGIN:VEVENT
DESCRIPTION:Details:\nhttps://bbyo.org/bbyo-near-you/regions/wisconsin-reg
 ion/wi-oneg-10-19-19
DTEND:20191018T170000
DTSTAMP:20260419T185740Z
DTSTART:20191018T150000
LOCATION:Packman Sukkah
SEQUENCE:0
SUMMARY:WI - Oneg - 10.19.19
UID:a7c60158-90ea-451b-a3ac-1c98bd3276fb
END:VEVENT
END:VCALENDAR
