BEGIN:VCALENDAR
PRODID:-//github.com/rianjs/ical.net//NONSGML ical.net 4.0//EN
VERSION:2.0
BEGIN:VEVENT
DESCRIPTION:Details:\nhttps://bbyo.org/bbyo-near-you/regions/northern-regi
 on-east-dc-council/dc-council-bbg-spirit-day-(1)\n\nSummary:\nJoin BBYO D
 C Council for our annual BBG Spirit Day. Come witness the strength of DC 
 Council's BBG chapters as they compete in bake-offs\, lip-syncs\, alma ma
 ters\, decorated booths\, and oratory
DTEND:20200426T150000
DTSTAMP:20260424T150536Z
DTSTART:20200423T103000
LOCATION:Bethesda Maryland
SEQUENCE:0
SUMMARY:DC Council BBG Spirit Day
UID:524e2625-8c06-4b43-a24c-b79ce7c0a580
END:VEVENT
END:VCALENDAR
