BEGIN:VCALENDAR
PRODID:-//github.com/rianjs/ical.net//NONSGML ical.net 4.0//EN
VERSION:2.0
BEGIN:VEVENT
DESCRIPTION:Details:\nhttps://bbyo.org/bbyo-near-you/regions/big-apple-reg
 ion/cltc-5-2019\n\nSummary:\nAt Chapter Leadership Training Conference (C
 LTC)\, you'll discover what it means to be a leader and attain lifelong l
 eadership skills.You'll also gain greater self-confidence\, a sense of Je
 wi
DTEND:20190714T090000
DTSTAMP:20260423T195527Z
DTSTART:20190702T120000
LOCATION:Mukwonago Wisconsin
SEQUENCE:0
SUMMARY:CLTC 5 2019
UID:b95797c3-2812-466d-b836-5f5157f2f801
END:VEVENT
END:VCALENDAR
