BEGIN:VCALENDAR
PRODID:-//github.com/rianjs/ical.net//NONSGML ical.net 4.0//EN
VERSION:2.0
BEGIN:VEVENT
DESCRIPTION:Details:\nhttps://bbyo.org/bbyo-near-you/regions/lonestar-regi
 on/houston-fall-term-calendar-clearance
DTEND:20220829T210000
DTSTAMP:20260424T062312Z
DTSTART:20220829T190000
LOCATION:Merfish Teen Center
SEQUENCE:0
SUMMARY:Houston Fall Term Calendar Clearance
UID:6f27d6a6-13d7-4910-834b-82c6c70bce5d
END:VEVENT
END:VCALENDAR
