BEGIN:VCALENDAR
PRODID:-//github.com/rianjs/ical.net//NONSGML ical.net 4.0//EN
VERSION:2.0
BEGIN:VEVENT
DESCRIPTION:Details:\nhttps://bbyo.org/bbyo-near-you/regions/lonestar-regi
 on/azaa-flag-football-week-5\n\nSummary:\nCome join us as we watch Housto
 n's AZAA flag football teams have fun at Godwin!\n\nReisbord vs. Lubel\nL
 oeb vs. Shapiro
DTEND:20161113T173000
DTSTAMP:20260421T084050Z
DTSTART:20161113T150000
LOCATION:Godwin Park
SEQUENCE:0
SUMMARY:AZAA Flag Football Week 5
UID:c87daae8-5b4c-44f5-857b-6af5ab1ba088
END:VEVENT
END:VCALENDAR
