BEGIN:VCALENDAR
PRODID:-//github.com/rianjs/ical.net//NONSGML ical.net 4.0//EN
VERSION:2.0
BEGIN:VEVENT
DESCRIPTION:Details:\nhttps://bbyo.org/bbyo-near-you/regions/greater-jerse
 y-region/senior-weekend-(1)\n\nSummary:\nSenior Weekend is for seniors on
 ly\, held at the Whippany JCC and is inter-regional! There is a reason th
 at you need to wait until your a senior to go to this convention...but yo
 u'll just hav
DTEND:20060402T170000
DTSTAMP:20260422T054917Z
DTSTART:20060331T170000
LOCATION:Crowne Plaza Hotel
SEQUENCE:0
SUMMARY:Senior Weekend
UID:482bcd5a-6aea-4ae5-a025-371260236da8
END:VEVENT
END:VCALENDAR
