BEGIN:VCALENDAR
PRODID:-//github.com/rianjs/ical.net//NONSGML ical.net 4.0//EN
VERSION:2.0
BEGIN:VEVENT
DESCRIPTION:Details:\nhttps://bbyo.org/bbyo-near-you/regions/manhattan-reg
 ion/sprinter-van-payment-$50-balance-due
DTEND:20240821T120000
DTSTAMP:20260423T200917Z
DTSTART:20240821T083000
LOCATION:
SEQUENCE:0
SUMMARY:Sprinter Van Payment: $50 Balance Due
UID:2b2a42a3-e7f1-4017-9cd1-75cde26fb1f2
END:VEVENT
END:VCALENDAR
