BEGIN:VCALENDAR
PRODID:-//github.com/rianjs/ical.net//NONSGML ical.net 4.0//EN
VERSION:2.0
BEGIN:VEVENT
DESCRIPTION:Details:\nhttps://bbyo.org/bbyo-near-you/regions/michigan-regi
 on/new-parent-info-meeting-(rush)
DTEND:20201018T210000
DTSTAMP:20260419T185739Z
DTSTART:20201018T200000
LOCATION:
SEQUENCE:0
SUMMARY:New Parent Info Meeting (Rush)
UID:46fa1c25-e2ba-43ec-ae91-3b7386f338c4
END:VEVENT
END:VCALENDAR
