BEGIN:VCALENDAR
PRODID:-//github.com/rianjs/ical.net//NONSGML ical.net 4.0//EN
VERSION:2.0
BEGIN:VEVENT
DESCRIPTION:Details:\nhttps://bbyo.org/bbyo-near-you/regions/north-texas-o
 klahoma-region/39th-regional-board-meeting-(12)
DTEND:20230921T193000
DTSTAMP:20260426T013202Z
DTSTART:20230921T183000
LOCATION:Zoom
SEQUENCE:0
SUMMARY:39th Regional Board Meeting
UID:b111d98f-5a33-4d86-bf2c-ea63e97efb0a
END:VEVENT
END:VCALENDAR
