BEGIN:VCALENDAR
PRODID:-//github.com/rianjs/ical.net//NONSGML ical.net 4.0//EN
VERSION:2.0
BEGIN:VEVENT
DESCRIPTION:Details:\nhttps://bbyo.org/bbyo-near-you/regions/greater-jerse
 y-region/gjhrr-virtual-azaa-games\n\nSummary:\nGet your game on with the 
 AZAA online tournament! Alephs from all around the region will  compete i
 n a wide array of online video games - there will be something for everyo
 ne! Admission is only $5 and there will be awesome prizes - we will be ra
 ffling off a Nintendo Switch!!! If you do not want to participate in the 
 gaming tournament\, you can also join just for the brotherhood!
DTEND:20210124T153000
DTSTAMP:20260422T143825Z
DTSTART:20210123T180000
LOCATION:zoom
SEQUENCE:0
SUMMARY:GJHRR Virtual AZAA Games
UID:2872840b-9204-43e6-8af7-d0d19d26e4c9
END:VEVENT
END:VCALENDAR
