BEGIN:VCALENDAR
PRODID:-//github.com/rianjs/ical.net//NONSGML ical.net 4.0//EN
VERSION:2.0
BEGIN:VEVENT
DESCRIPTION:Details:\nhttps://bbyo.org/bbyo-near-you/regions/greater-jerse
 y-region/gjhrr-life-2016-(pc3050)\n\nSummary:\nLIFE Weekend is the conven
 tion where we celebrate our successful year\, say goodbye to our seniors\
 , listen to Gold Life Speeches\, and vote for next year's Council Boards.
 \n\nScholarships are
DTEND:20160522T150000
DTSTAMP:20260426T013231Z
DTSTART:20160520T173000
LOCATION:Wayne Y
SEQUENCE:0
SUMMARY:GJHRR LIFE 2016 (PC3050)
UID:71133db7-722a-4d90-a844-afca8d62d60b
END:VEVENT
END:VCALENDAR
