BEGIN:VCALENDAR
PRODID:-//github.com/rianjs/ical.net//NONSGML ical.net 4.0//EN
VERSION:2.0
BEGIN:VEVENT
DESCRIPTION:Details:\nhttps://bbyo.org/bbyo-near-you/regions/new-england-r
 egion/ner-bbyo-spring-convention-2023\n\nSummary:\nJoin us for a jam pack
 ed weekend full of spirit\, Regional States\, Senior Life Ceremonies\, an
 d more!
DTEND:20230402T143000
DTSTAMP:20260424T062559Z
DTSTART:20230331T153000
LOCATION:Plymouth Massachusetts
SEQUENCE:0
SUMMARY:NER BBYO Spring Convention 2023
UID:7eca5a75-9a49-4e8d-9424-0ee8391a9ea3
END:VEVENT
END:VCALENDAR
