BEGIN:VCALENDAR
PRODID:-//github.com/rianjs/ical.net//NONSGML ical.net 4.0//EN
VERSION:2.0
BEGIN:VEVENT
DESCRIPTION:Details:\nhttps://bbyo.org/bbyo-near-you/regions/hudson-valley
 -region/together-as-one-spring-campaign-call-party
DTEND:20220426T203000
DTSTAMP:20260421T073137Z
DTSTART:20220426T183000
LOCATION:
SEQUENCE:0
SUMMARY:Together As One Spring Campaign Call Party
UID:80d5e658-ec4c-4050-9579-463715ff8677
END:VEVENT
END:VCALENDAR
