BEGIN:VCALENDAR
PRODID:-//github.com/rianjs/ical.net//NONSGML ical.net 4.0//EN
VERSION:2.0
BEGIN:VEVENT
DESCRIPTION:Details:\nhttps://bbyo.org/bbyo-near-you/regions/central-regio
 n-west/central-region-west-kallah-convention\n\nSummary:\nKallah 2020 wil
 l immerse CRW teens into interactive programming that CRW hasn't seen bef
 ore. Togeher we will explore our Jewish roots that led us to our current 
 identities\, work on improving
DTEND:20201018T143000
DTSTAMP:20260421T100118Z
DTSTART:20201016T170000
LOCATION:Hybrid- Virtual/In Person
SEQUENCE:0
SUMMARY:Central Region West Kallah Convention
UID:bb1277c0-219c-4607-b8dc-f88edf52e6f5
END:VEVENT
END:VCALENDAR
