BEGIN:VCALENDAR
PRODID:-//github.com/rianjs/ical.net//NONSGML ical.net 4.0//EN
VERSION:2.0
BEGIN:VEVENT
DESCRIPTION:Details:\nhttps://bbyo.org/bbyo-near-you/regions/lonestar-regi
 on/lonestar-fall-convention-2023-lonestar-palooza\n\nSummary:\nThe entire
  region of Lonestar BBYO (9th-12th graders) is invited to spend an amazin
 g weekend together as we join for Fall Convention: Lonestar-palooza!\n\nF
 eaturing:\n\n* Meaningful Shabbat experiences\n\n* Creative Programming\n
 \n* AZA\, BBG\, and BBYO Separates Programs\n\n* Elections of the 40th Re
 gional Board\n\n* A fun dance\n\nAnd so much more!\n\nEarly Bird Price: $
 330 until Sept. 28 at 11:59pm Central\n\nRegular Price: $380 from Sept. 2
 9-Oct. 8\n\nScholarships are available. For Houston/Austin/El Paso\, plea
 se submit the BBYO scholarship form: https://bbyo.org/scholarship-form. F
 or San Antonio\, please reach out to Sarah at rams@jcc-sa.org. Scholarshi
 p requests must be submitted no later than Sept. 28.
DTEND:20231022T190000
DTSTAMP:20260423T200354Z
DTSTART:20231020T163000
LOCATION:Location Shared Upon Registration
SEQUENCE:0
SUMMARY:Lonestar Fall Convention 2023: Lonestar-palooza
UID:09bf03eb-6b8a-4609-9389-bb90ffdd640c
END:VEVENT
END:VCALENDAR
