BEGIN:VCALENDAR
PRODID:-//github.com/rianjs/ical.net//NONSGML ical.net 4.0//EN
VERSION:2.0
BEGIN:VEVENT
DESCRIPTION:Details:\nhttps://bbyo.org/bbyo-near-you/regions/lonestar-regi
 on/houston-azaa-basketball-week-1\n\nSummary:\nYou must be registered for
  the league to attend.
DTEND:20210926T180000
DTSTAMP:20260423T200441Z
DTSTART:20210926T160000
LOCATION:Beren Academy
SEQUENCE:0
SUMMARY:Houston AZAA Basketball Week 1
UID:6380bcd5-2d25-4026-a400-ee207ac4337a
END:VEVENT
END:VCALENDAR
