BEGIN:VCALENDAR
PRODID:-//github.com/rianjs/ical.net//NONSGML ical.net 4.0//EN
VERSION:2.0
BEGIN:VEVENT
DESCRIPTION:Details:\nhttps://bbyo.org/bbyo-near-you/regions/rocky-mountai
 n-region/azaa-sports
DTEND:20240508T204500
DTSTAMP:20260424T223654Z
DTSTART:20240508T190000
LOCATION:Denver Colorado
SEQUENCE:0
SUMMARY:AZAA Sports
UID:ea99f6dd-0c3a-45c0-bf8d-01150101be50
END:VEVENT
END:VCALENDAR
