BEGIN:VCALENDAR
PRODID:-//github.com/rianjs/ical.net//NONSGML ical.net 4.0//EN
VERSION:2.0
BEGIN:VEVENT
DESCRIPTION:Details:\nhttps://bbyo.org/bbyo-near-you/regions/miami-region/
 miami-community-service
DTEND:20171003T000100
DTSTAMP:20260421T163039Z
DTSTART;VALUE=DATE:20171003
LOCATION:
SEQUENCE:0
SUMMARY:Miami Community Service
UID:6135c1c1-4b30-4a0a-bf73-7a5089b04c01
END:VEVENT
END:VCALENDAR
