BEGIN:VCALENDAR
PRODID:-//github.com/rianjs/ical.net//NONSGML ical.net 4.0//EN
VERSION:2.0
BEGIN:VEVENT
DESCRIPTION:Details:\nhttps://bbyo.org/bbyo-near-you/regions/mid-america-r
 egion-north-star-council/bbyo-summer-programs-info-night\n\nSummary:\nJoi
 n BBYO Passport staff to learn more about the Jewish summer experiences t
 hat BBYO has to offer!
DTEND:20230118T200000
DTSTAMP:20260423T200316Z
DTSTART:20230118T180000
LOCATION:Minneapolis Minnesota
SEQUENCE:0
SUMMARY:BBYO Summer Programs Info Night
UID:486e0945-8198-4c06-971d-8776a08de4a4
END:VEVENT
END:VCALENDAR
