BEGIN:VCALENDAR
PRODID:-//github.com/rianjs/ical.net//NONSGML ical.net 4.0//EN
VERSION:2.0
BEGIN:VEVENT
DESCRIPTION:Details:\nhttps://bbyo.org/bbyo-near-you/regions/lonestar-regi
 on/doi-63-at-sire\n\nSummary:\nThis is BBG #63's Day of Impact Activity d
 uring Regionals 2021.
DTEND:20210116T130000
DTSTAMP:20260425T235443Z
DTSTART:20210115T220000
LOCATION:Spring Texas
SEQUENCE:0
SUMMARY:DOI: 63 at SIRE
UID:be595443-a180-4b6c-93de-4486a6b6117e
END:VEVENT
END:VCALENDAR
